BEGIN:VCALENDAR
VERSION:2.0
PRODID:-//Wildnismentor - ECPv6.0.4//NONSGML v1.0//EN
CALSCALE:GREGORIAN
METHOD:PUBLISH
X-ORIGINAL-URL:https://wildnismentor.eu
X-WR-CALDESC:Events for Wildnismentor
REFRESH-INTERVAL;VALUE=DURATION:PT1H
X-Robots-Tag:noindex
X-PUBLISHED-TTL:PT1H
BEGIN:VTIMEZONE
TZID:UTC
BEGIN:STANDARD
TZOFFSETFROM:+0000
TZOFFSETTO:+0000
TZNAME:UTC
DTSTART:20220101T000000
END:STANDARD
END:VTIMEZONE
BEGIN:VEVENT
DTSTART;TZID=UTC:20221222T170000
DTEND;TZID=UTC:20221222T170000
DTSTAMP:20260421T223650
CREATED:20221121T132128Z
LAST-MODIFIED:20221227T170730Z
UID:1786-1671728400-1671728400@wildnismentor.eu
SUMMARY:Wildnismentor Generations Gathering
DESCRIPTION:On a rather mild evening we celebrated winter solstice around the fire with some mulled wine and good food brought in by everybody. Apart from exchanging stories and singing songs together we should mention two other contributions: Helene´s awesome voice presenting a song of her own as well as Christian´s demonstration of a rescue operation in a rucksack especially made or that.
URL:https://wildnismentor.eu/event/wildnismentor-generations-gathering/
ATTACH;FMTTYPE=image/jpeg:https://wildnismentor.eu/wp-content/uploads/2022/12/bild1.jpg
END:VEVENT
END:VCALENDAR