BEGIN:VCALENDAR
VERSION:2.0
PRODID:-//Wildnismentor - ECPv6.0.4//NONSGML v1.0//EN
CALSCALE:GREGORIAN
METHOD:PUBLISH
X-WR-CALNAME:Wildnismentor
X-ORIGINAL-URL:https://wildnismentor.eu
X-WR-CALDESC:Events for Wildnismentor
REFRESH-INTERVAL;VALUE=DURATION:PT1H
X-Robots-Tag:noindex
X-PUBLISHED-TTL:PT1H
BEGIN:VTIMEZONE
TZID:UTC
BEGIN:STANDARD
TZOFFSETFROM:+0000
TZOFFSETTO:+0000
TZNAME:UTC
DTSTART:20220101T000000
END:STANDARD
END:VTIMEZONE
BEGIN:VEVENT
DTSTART;TZID=UTC:20221118T170000
DTEND;TZID=UTC:20221118T170000
DTSTAMP:20260421T223452
CREATED:20220614T155634Z
LAST-MODIFIED:20221121T132253Z
UID:688-1668790800-1668790800@wildnismentor.eu
SUMMARY:Wildnismentor Generations Gathering
DESCRIPTION:Participants of all yeargroup courses and former Wildnismentor graduates took part in the meanwhile fourth gathering on Hermannswerder. Together with our special guests Bosse and Jonthe from Sjövik Folkhögskola we enjoyed a night of songs\, stories\, food and drink around the fire. Winter literally arrived at that day even earlier than in Sweden. Early morning with the last fireshine we snuggled into our sleeping bags to spend a cosy frost night at the yurt.
URL:https://wildnismentor.eu/event/climbing-wall-festival/
ATTACH;FMTTYPE=image/jpeg:https://wildnismentor.eu/wp-content/uploads/2022/06/DSC02198-scaled.jpg
END:VEVENT
END:VCALENDAR